BEGIN:VCALENDAR
VERSION:2.0
PRODID:icalendar-ruby
CALSCALE:GREGORIAN
METHOD:PUBLISH
BEGIN:VEVENT
DTSTAMP:20260420T203939Z
UID:283-3309831@chedokechurch.ca
DTSTART:20261020T140000Z
DTEND:20261020T150000Z
CLASS:PUBLIC
CREATED:20260420T163233
DESCRIPTION:Every Tuesday at 10 am.\nHave questions about the Sermon from S
 unday? Dis something inspire you\, challenge you\, puzzle you or bother yo
 u?\nWant to see some of the behind the scenes work that goes into the mess
 age?\nJoin Pastor Matt Tuesday Mornings!
LAST-MODIFIED:20260420T163233
LOCATION:Chedoke Church
SUMMARY:Coffee Talk Tuesdays
URL;VALUE=URI:https://www.chedokechurch.ca/events/coffee-talk-tuesdays/2026
 -10-20
ATTACH;FILENAME=Coffee Talk Tuesdays graphic Aug. 2023.png;FMTTYPE=image/pn
 g:https://dq5pwpg1q8ru0.cloudfront.net/2023/08/17/06/50/28/e7e52f88-1b5d-4
 392-bd3b-2fd3f1eb3358/Coffee%20Talk%20Tuesdays%20graphic%20Aug.%202023.png
END:VEVENT
END:VCALENDAR
